Workbook

Sheet Approved_Budget
A1: [Select FC Name from Dropdown List]
A2: Employment, Life Skills & Training Initiative
C4: Funding Year: | D4: [insert funding year]
C5: Allocation: | D5: 0
C6: Top Up Funding (if applicable): | D6: 0
B7: Approved Budget Total: | D7: =SUM(D5:D6) -> 0
A8: Approved Expenses - Type of Expense | D8: Approved Budget
A9: Skills Training and Education: | D9: 45100
A10: Cultural Activities:
A11: Facilitator Costs:
A12: Education Supports:
A13: Apprenticeship Training:
A14: Facility Rent (specific to project activities):
A15: Other: [please list]
A16: Admin Costs (up to a maximum of 10% of Total Approved Budget): | D16: =SUM(D17:D18) -> 0
A17: Management/Supervision of project/Coordinator:
A18: Overhead Costs (office rent for ELST Coordinator's office, phone, internet, etc.):
A19: Skills Training and Education Costs Subtotal: | D19: =SUM(D10:D16) -> 0
A20: Employment Coordinator Wages*: | D20: 68900
A21: Wages/Salary:
A22: MERCS, Benefits:
A23: Employment Coordinator Wages* Subtotal: | D23: =SUM(D21:D22) -> 0
A24: Participant Financial Supports: | D24: 15000
A25: Work gear/Required Equipment:
A26: Childcare:
A27: Transportation:
A28: Refreshments (during training):
A29: Other: [please list]
A30: Participant Financial Supports Subtotal: | D30: =SUM(D25:D29) -> 0
A31: TOTAL EXPENSES: | D31: =SUM(D19,D23,D30) -> 0
A33: TYPES OF EXPENSES - DEFINITIONS
A34: Skills Training and Educaton:
A35: Training and education delivered to participants to obtain the skills necessary for employment or further education and training, including: Group training and multi-week group cohorts; individual (one-on-one) training; apprenticeship training; foundational trades training; education supports including post-secondary; rent for the facility where the training will take place; cultural activities, workshops & protocols including Elder support; costs associated with Faciliator training delivery. Administration costs up to a maximum of 10% of the Total Approved budget, including: Overhead costs specific to the Project such as rental of office space for the Employment Coordinator, phone, internet; Management or supervision of the Project, Employment Coordinator, and Project reporting requirements.
A36: Employment Coordinator Wages*:
A37: *Maximum allowance for Employment Coordinator wages and benefits cannot exceed $68,900.00. Recipient will have an Employment Coordinator to provide Employment Assistance Services that support individuals as they prepare to enter or re-enter the workforce, or assist them to find better employment.
A38: Participant Financial Supports:
A39: Financial supports and benefits for a participant to remove barriers to their participation in the Project including: Childcare; Transportation; Refreshments during training; Disability supports; Training allowance; Accommodation where training is offered outside of participant's Community; Required equipment and work gear; Laptops and computer equipment related to program participation.
A40: For a full list of eligible expenses, please contact the BCAAFC Employment Coordinator or refer to your current Contribution Agreement.
A42: The budget information entered above will automatically populate in the 'Cashflow' tab

Sheet Cashflow
A1: =Approved_Budget!A1 -> [Select FC Name from Dropdown List]
A2: Employment, Life Skills & Training Initiative
E3: Select 'Actual' or 'Forecast' from dropdown | J3: Progress Marker #1 | K3: Select 'Actual' or 'Forecast' from dropdown | N3: Progress Marker #2 | O3: Select 'Actual' or 'Forecast' from dropdown | S3: Final Progress Marker | T3: GRAND TOTAL
B4: Funding Year: | D4: =Approved_Budget!D4 -> [insert funding year] | E4: Forecast | F4: Forecast | G4: Forecast | H4: Forecast | I4: Forecast | K4: Forecast | L4: Forecast | M4: Forecast | O4: Forecast | P4: Forecast | Q4: Forecast | R4: Forecast
A5: APPROVED BUDGET TOTAL: | D5: =Approved_Budget!D7 -> 0 | E5: Aug | F5: Sept | G5: Oct | H5: Nov | I5: Dec | K5: Jan | L5: Feb | M5: Mar | O5: April | P5: May | Q5: June | R5: July
A6: Approved Expenses - Type of Expense | D6: Approved Budget
A7: Skills Training and Education: | D7: =Approved_Budget!D9 -> 45100
A8: Cultural Activities: | D8: =Approved_Budget!D10 -> 0 | J8: =SUM(E8:I8) -> 0 | N8: =SUM(K8:M8) -> 0 | S8: =SUM(O8:R8) -> 0 | T8: =SUM(S8,N8,J8) -> 0
A9: Facilitator Costs: | D9: =Approved_Budget!D11 -> 0 | J9: =SUM(E9:I9) -> 0 | N9: =SUM(K9:M9) -> 0 | S9: =SUM(O9:R9) -> 0 | T9: =SUM(S9,N9,J9) -> 0
A10: Education Supports: | D10: =Approved_Budget!D12 -> 0 | J10: =SUM(E10:I10) -> 0 | N10: =SUM(K10:M10) -> 0 | S10: =SUM(O10:R10) -> 0 | T10: =SUM(S10,N10,J10) -> 0
A11: Apprenticeship Training: | D11: =Approved_Budget!D13 -> 0 | J11: =SUM(E11:I11) -> 0 | N11: =SUM(K11:M11) -> 0 | S11: =SUM(O11:R11) -> 0 | T11: =SUM(S11,N11,J11) -> 0
A12: Facility Rent (specific to project activities): | D12: =Approved_Budget!D14 -> 0 | J12: =SUM(E12:I12) -> 0 | N12: =SUM(K12:M12) -> 0 | S12: =SUM(O12:R12) -> 0 | T12: =SUM(S12,N12,J12) -> 0
A13: =Approved_Budget!A15 -> Other: [please list] | D13: =Approved_Budget!D15 -> 0 | J13: =SUM(E13:I13) -> 0 | N13: =SUM(K13:M13) -> 0 | S13: =SUM(O13:R13) -> 0 | T13: =SUM(S13,N13,J13) -> 0
A14: Admin Costs (up to a maximum of 10% of Total Approved Budget): | D14: =Approved_Budget!D16 -> 0 | E14: =SUM(E15:E16) -> 0 | F14: =SUM(F15:F16) -> 0 | G14: =SUM(G15:G16) -> 0 | H14: =SUM(H15:H16) -> 0 | I14: =SUM(I15:I16) -> 0 | J14: =SUM(E14:I14) -> 0 | K14: =SUM(K15:K16) -> 0 | L14: =SUM(L15:L16) -> 0 | M14: =SUM(M15:M16) -> 0 | N14: =SUM(K14:M14) -> 0 | O14: =SUM(O15:O16) -> 0 | P14: =SUM(P15:P16) -> 0 | Q14: =SUM(Q15:Q16) -> 0 | R14: =SUM(R15:R16) -> 0 | S14: =SUM(O14:R14) -> 0 | T14: =SUM(S14,N14,J14) -> 0
A15: Management/Supervision of project/Coordinator: | D15: =Approved_Budget!D17 -> 0 | J15: =SUM(E15:I15) -> 0 | N15: =SUM(K15:M15) -> 0 | S15: =SUM(O15:R15) -> 0 | T15: =SUM(S15,N15,J15) -> 0
A16: Overhead Costs (office rent for ELST Coordinator's office, phone, internet, etc.): | D16: =Approved_Budget!D18 -> 0 | J16: =SUM(E16:I16) -> 0 | N16: =SUM(K16:M16) -> 0 | S16: =SUM(O16:R16) -> 0 | T16: =SUM(S16,N16,J16) -> 0
A17: Skills Training and Education Costs Subtotal: | D17: =Approved_Budget!D19 -> 0 | E17: =SUM(E8:E14) -> 0 | F17: =SUM(F8:F14) -> 0 | G17: =SUM(G8:G14) -> 0 | H17: =SUM(H8:H14) -> 0 | I17: =SUM(I8:I14) -> 0 | J17: =SUM(J8:J14) -> 0 | K17: =SUM(K8:K14) -> 0 | L17: =SUM(L8:L14) -> 0 | ... T17: =SUM(T8:T14) -> 0
A18: Employment Coordinator Wages*: | D18: =Approved_Budget!D20 -> 68900
A19: Wages/Salary: | D19: =Approved_Budget!D21 -> 0 | J19: =SUM(E19:I19) -> 0 | N19: =SUM(K19:M19) -> 0 | S19: =SUM(O19:R19) -> 0 | T19: =SUM(S19,N19,J19) -> 0
A20: MERCS, Benefits: | D20: =Approved_Budget!D22 -> 0 | J20: =SUM(E20:I20) -> 0 | N20: =SUM(K20:M20) -> 0 | S20: =SUM(O20:R20) -> 0 | T20: =SUM(S20,N20,J20) -> 0
A21: Employment Coordinator Wages* Subtotal: | D21: =Approved_Budget!D23 -> 0 | E21: =SUM(E19:E20) -> 0 | F21: =SUM(F19:F20) -> 0 | G21: =SUM(G19:G20) -> 0 | H21: =SUM(H19:H20) -> 0 | I21: =SUM(I19:I20) -> 0 | J21: =SUM(J19:J20) -> 0 | K21: =SUM(K19:K20) -> 0 | L21: =SUM(L19:L20) -> 0 | ... T21: =SUM(T19:T20) -> 0
A22: Participant Financial Supports: | D22: =Approved_Budget!D24 -> 15000
A23: Work gear/Required Equipment: | D23: =Approved_Budget!D25 -> 0 | J23: =SUM(E23:I23) -> 0 | N23: =SUM(K23:M23) -> 0 | S23: =SUM(O23:R23) -> 0 | T23: =SUM(S23,N23,J23) -> 0
A24: Childcare: | D24: =Approved_Budget!D26 -> 0 | J24: =SUM(E24:I24) -> 0 | N24: =SUM(K24:M24) -> 0 | S24: =SUM(O24:R24) -> 0 | T24: =SUM(S24,N24,J24) -> 0
A25: Transportation: | D25: =Approved_Budget!D27 -> 0 | J25: =SUM(E25:I25) -> 0 | N25: =SUM(K25:M25) -> 0 | S25: =SUM(O25:R25) -> 0 | T25: =SUM(S25,N25,J25) -> 0
A26: Refreshments (during training): | D26: =Approved_Budget!D28 -> 0 | J26: =SUM(E26:I26) -> 0 | N26: =SUM(K26:M26) -> 0 | S26: =SUM(O26:R26) -> 0 | T26: =SUM(S26,N26,J26) -> 0
A27: =Approved_Budget!A29 -> Other: [please list] | D27: =Approved_Budget!D29 -> 0 | J27: =SUM(E27:I27) -> 0 | N27: =SUM(K27:M27) -> 0 | S27: =SUM(O27:R27) -> 0 | T27: =SUM(S27,N27,J27) -> 0
A28: Participant Financial Supports Subtotal: | D28: =Approved_Budget!D30 -> 0 | E28: =SUM(E23:E27) -> 0 | F28: =SUM(F23:F27) -> 0 | G28: =SUM(G23:G27) -> 0 | H28: =SUM(H23:H27) -> 0 | I28: =SUM(I23:I27) -> 0 | J28: =SUM(J23:J27) -> 0 | K28: =SUM(K23:K27) -> 0 | L28: =SUM(L23:L27) -> 0 | ... T28: =SUM(T23:T27) -> 0
A29: TOTAL EXPENSES: | D29: =Approved_Budget!D31 -> 0 | E29: =SUM(E8:E14,E19:E20,E23:E27) -> 0 | F29: =SUM(F8:F14,F19:F20,F23:F27) -> 0 | G29: =SUM(G8:G14,G19:G20,G23:G27) -> 0 | H29: =SUM(H8:H14,H19:H20,H23:H27) -> 0 | I29: =SUM(I8:I14,I19:I20,I23:I27) -> 0 | J29: =SUM(J8:J14,J19:J20,J23:J27) -> 0 | K29: =SUM(K8:K14,K19:K20,K23:K27) -> 0 | L29: =SUM(L8:L14,L19:L20,L23:L27) -> 0 | ... T29: =SUM(T8:T14,T19:T20,T23:T27) -> 0
Q30: Anticipated Surplus/(Deficit): | T30: =D5-T29 -> 0
K32: Cashflow Notes / Financial Commentary:
A33: Only listed budget line items are allowed. Do not add or edit the listed budget lines in any way.
A35: Adjustments to the Approved Budget Total must be made on the "Approved_Budget" worksheet.
A37: Two (2) signatures are required to finalize this report. Reports missing either of the original signatures will need to be resubmitted.
A40: I certify that the amounts indicated accurately reflect actual expenditures and projected forecasts for the period specified, and that BCAAFC and/or the Government of BC may at any time request supporting documents for audit purposes.
A45: Executive Director, Signature & Print Name | E45: Date | K45: Financial Office, Signature & Print Name | S45: Date

Sheet Budget Amendment
A1: =Approved_Budget!A1 -> [Select FC Name from Dropdown List]
A2: Employment, Life Skills & Training Initiative
A4: Budget Amendment | E4: Funding Year: | F4: =Approved_Budget!D4 -> [insert funding year]
A5: Approved Expenses - Type of Expense | D5: Approved Budget | E5: Increase / Decrease | F5: New Budget
A6: Skills Training and Education: | D6: =Approved_Budget!D9 -> 45100 | F6: =SUM(D6+E6) -> 45100
A7: Cultural Activities: | D7: =Approved_Budget!D10 -> 0 | F7: =SUM(D7+E7) -> 0
A8: Facilitator Costs: | D8: =Approved_Budget!D11 -> 0 | F8: =SUM(D8+E8) -> 0
A9: Education Supports: | D9: =Approved_Budget!D12 -> 0 | F9: =SUM(D9+E9) -> 0
A10: Apprenticeship Training: | D10: =Approved_Budget!D13 -> 0 | F10: =SUM(D10+E10) -> 0
A11: Facility Rent (specific to project activities): | D11: =Approved_Budget!D14 -> 0 | F11: =SUM(D11+E11) -> 0
A12: =Approved_Budget!A15 -> Other: [please list] | D12: =Approved_Budget!D15 -> 0 | F12: =SUM(D12+E12) -> 0
A13: Admin Costs (up to a maximum of 10% of Total Approved Budget): | D13: =Approved_Budget!D16 -> 0 | E13: =SUM(E14:E15) -> 0 | F13: =SUM(D13+E13) -> 0
A14: Management/Supervision of project/Coordinator: | D14: 0 | F14: =SUM(D14+E14) -> 0
A15: Overhead Costs (office rent for ELST Coordinator's office, phone, internet, etc.): | D15: 0 | F15: =SUM(D15+E15) -> 0
A16: Skills Training and Education Costs Subtotal: | D16: =Approved_Budget!D19 -> 0 | F16: =SUM(F7:F15) -> 0
A17: Employment Coordinator Wages - cannot exceed $68,900.00: | D17: =Approved_Budget!D20 -> 68900 | F17: =SUM(D17+E17) -> 68900
A18: Wages/Salary: | D18: =Approved_Budget!D21 -> 0 | F18: =SUM(D18+E18) -> 0
A19: MERCS, Benefits: | D19: =Approved_Budget!D22 -> 0 | F19: =SUM(D19+E19) -> 0
A20: Employment Coordinator Wages Subtotal: | D20: =Approved_Budget!D23 -> 0 | F20: =SUM(F18:F19) -> 0
A21: Participant Financial Supports: | D21: =Approved_Budget!D24 -> 15000 | F21: =SUM(D21+E21) -> 15000
A22: Work gear/Required Equipment: | D22: =Approved_Budget!D25 -> 0 | F22: =SUM(D22+E22) -> 0
A23: Childcare: | D23: =Approved_Budget!D26 -> 0 | F23: =SUM(D23+E23) -> 0
A24: Transportation: | D24: =Approved_Budget!D27 -> 0 | F24: =SUM(D24+E24) -> 0
A25: Refreshments (during training): | D25: =Approved_Budget!D28 -> 0 | F25: =SUM(D25+E25) -> 0
A26: =Approved_Budget!A29 -> Other: [please list] | D26: =Approved_Budget!D29 -> 0 | F26: =SUM(D26+E26) -> 0
A27: Participant Financial Supports Subtotal: | D27: =Approved_Budget!D30 -> 0 | F27: =SUM(F22:F26) -> 0
A28: TOTAL EXPENSES: | D28: =Approved_Budget!D31 -> 0 | E28: =SUM(E7:E15,E18:E19,E22:E25) -> 0 | F28: =SUM(F16,F20,F27) -> 0
A29: Reason for Amendment Request (required):
A30: [insert response here]
A34: Name & Signature (required):
A37: BCAAFC Office Use Only
A39: Approve the above request
A40: Approve the above request w/ suggested changes
A41: Conditional Approval with additional rationale
A42: Not approved
D46: BCAAFC Authorized Signature

Sheet ISTE Program Overview
A1: Ministry of Post-Secondary Education and Future Skills
A2: Indigenous Skills Training and Education Program*
A3: *ISTE guidelines and eligibility are subject to change. Please contact the BCAAFC Employment Program Coordinator for questions about eligibility.
A5: PROGRAM OVERVIEW
A7: The Ministry of Post-Secondary Education & Future Skills (PSFS) provides funding through the Indigenous Skills Training and Education (ISTE) program to the BC Association of Friendship Centres (BCAAFC), to support access of urban Indigenous peoples and communities to skills training and post-secondary education leading to labour market participation, employment, further education and training, and community revitalization and socioeconomic well-being.
A9: The program supports the self-determined design and delivery of skills training and post-secondary education programs that address Indigenous people’s unique priorities, needs and circumstances across B.C. It supports partnerships between Friendship Centres, Indigenous service organizations, Indigenous institutes, post-secondary institutions, private trainers, labour, industry, and others. These partnerships advance the workforce and socioeconomic priorities of BCAAFC through community-led programs, services, and supports required to upgrade skills, obtain credentials, access post-secondary education, secure employment, grow local economies, restore language and culture, and support community revitalization, that improves outcomes for urban Indigenous peoples and contributes to a lasting and meaningful reconciliation.
A11: 1. Vision and Objectives
A13: The work of the ISTE program is guided by:
A14: ▪BC's Declaration on the Rights of Indigenous Peoples Act, in particular Articles 3, 4, 5, 18 and 19, as pertaining to self-determination, Articles 14, 15, 21 and 23, as pertaining to education, and 9, 11, 13, 20, 21 and 23, as pertaining to community socioeconomic development and well-being, and Article 39, pertaining to funding to support these rights (see link below); and
A15: Click here to access the Declaration on the Rights of Indigenous Peoples Act
A16: ▪BC's Declaration Act Action Plan item 4.41 as well as other Action items that pertain to a new relationship and that depend on skills training and education to achieve (see link below).
A17: Click here to access the Declaration Act Action Plan
... A70: Employment and/or moving on to further education or training is a desired successful outcome; however, applicants can identify other or different desired outcomes to measure success based on individual, community or labour market situations.

Sheet ISTE_EducationTrainingProviders
A1: Ministry of Post-Secondary Education and Future Skills
A2: Indigenous Skills Training and Education Program*
A3: *ISTE guidelines and eligibility are subject to change. Please contact the BCAAFC Employment Program Coordinator for questions about eligibility.
A5: ELIGIBLE EDUCATION AND TRAINING PROVIDERS
A7: All training providers must have the expertise, skills, and experience to deliver training. If the occupation is regulated by a governing body, the provider must be qualified to deliver the training.
A8: Click here for the list of BC regulatory authorities.
A10: The training provider must be an independent third-party to the applicant. Exceptions may be considered in remote communities. Training providers must follow Provincial Health Officer (PHO) orders when required.
A11: Click here to access the Provincial Health Officer (PHO) orders.
A13: Any training in the workplace must adhere to all Occupational Health and Safety Regulations. Click here to access the Occupational Health and Safety Regulations.
A14: Click here to access the Occupational Health and Safety Regulations.
A16: It is important that BC training providers be utilized where possible; if an eligible trainer in BC is not available, please request approval from ISTE program staff for a Canadian training provider. For BC Friendship Centres, this request can be submitted to the BCAAFC Employment Program Coordinator.
A18: POST-SECONDARY EDUCATION AND TRADES TRAINING PROVIDERS
... A38: ▪Other industry training that leads to an industry-recognized certification or is subject to regulation must also be delivered by an industry-recognized and/or regulated training provider. Examples include but are not limited to: early childhood educator, paramedic, emergency medical assistant, etc.

Sheet ISTE_EligibleServices&Costs
A1: Ministry of Post-Secondary Education and Future Skills
A2: Indigenous Skills Training and Education Program*
A3: *ISTE guidelines and eligibility are subject to change. Please contact the BCAAFC Employment Program Coordinator for questions about eligibility.
A5: ELIGIBLE SERVICES & COSTS
A7: Skills Training and Education: training and education delivered to participants to support them to move into further education or training, obtain skills to participate in the labour market, connect to employment, or contribute to their local economy and community including costs incurred by trainers for travel, meals, and accommodations, specifically related to the delivery of the training. Training may also support community development and socioeconomic well-being.
A8: Types of Service | B8: Examples of Services & Costs
A9: Post-Secondary Education | B9: Credit-bearing education delivered through Indigenous institutes and public or private post-secondary institutions leading to a certificate, diploma or degree recognized in the post-secondary system.
B10: Click here for a full list of post-secondary institutions.
A11: Apprenticeship Training | B11: Training that includes both theoretical instruction and practical on-the-job training. Examples may include Level 1, Level 2, Level 3, and Level 4 trades training.
B12: Click here for a full list of SkilledTradesBC's Accredited, Recognized and Designated SkilledTradesBC Trade Programs.
B13: SkilledTradesBC approved technical training must be delivered by a SkilledTradesBC designated training provider. Instructors with a designated training providers will hold a Certificate of Qualification or Red Seal in BC.
B14: Click here for a list of all Approved Training Providers | SkilledTradesBC.
B15: Employers who hire and sponsor an apprentice must provide on-the-job training and the apprentice will be supervised by a qualified tradesperson. The qualified tradesperson must be an individual who has been issued a Certificate of Qualification or Red Seal in B.C.
B16: Click here to verify a tradesperson’s certification.
B17: Click here to access the SkilledTradesBC Supervision and Sign Off Authority.
B18: Click here to access the SkilledTradesBC Sponsor Employers.
A19: Foundational Trades Training | B19: A foundation program teaches the basic foundational knowledge and skills needed for entry into a trade. It’s typically taught in a post-secondary or high school classroom and outfitted shop setting, without the need to find an employer sponsor to participate. Completing a foundation program can help an individual to gain some knowledge, experience, and familiarity with a specific trade, making it easier for them to find an employer who will sponsor their apprenticeship. They cover material related to one or more apprenticeship programs and some will include Level 1 technical information. Foundation programs can be 13 weeks to 10 months in length and will also provide credit towards completion of an apprenticeship Level 1 and sometimes part of Level 2. Foundation students will also be credited with a certain number of work-based hours towards their apprenticeship. The level(s) and hours will depend on the trade.
A20: Trade Sampler | B20: Typically, a 10–to 12-week program which provides individuals with an in-depth opportunity to explore 4 or more trades. A trade sampler provides practical exposure to a variety of trades while providing basic knowledge and workplace skill training (i.e., safety certification, tools and equipment, job readiness skills) and a work placement. The training does not result in a credential but is a good apprenticeship pathway to foundations training or direct entry as an apprentice. Training does not need to be delivered by a SkilledTradesBC designated training provider, although recommended. A qualified trades instructor or certified trades person is highly recommended to be an instructor if the training provider is not designated.
A21: Other pre-apprenticeship training | B21: Any other training, not captured above, that provides knowledge, skills, and experience in the trades to support an individual to enter or succeed in a trade. For example, paid work experience or wage subsidy with an individual who has been issued a Certificate of Qualification or Red Seal that may lead to a direct apprenticeship as they gain skills that support them being hired and then progressing into apprenticeship training while working.
A22: Adult Basic Education (ABE) | B22: Formal education that leads to completion of high school diploma or high school equivalency.
B23: Click here for a full list of Indigenous institutes, public post-secondary institutions, and others that deliver ABE.
B24: Click here for institute providing free online training.
A25: Skills for Success and Literacy (essential skills) | B25: Training that focuses on everyday skills needed for work, learning and life e.g. literacy, numeracy, financial and digital literacy, personal management skills, such as personal goal setting, time management, problem solving, decision making, communication, teamwork, ongoing learning, etc.
B26: Click here for list of Skills for Success and Literacy.
A27: Occupational Skills Training | B27: Non-credit bearing training delivered through public or private post-secondary institutions or other recognized training providers, leading to certification and skills relevant to employment in specific occupations.
A28: Short-Term Training | B28: Short duration training certificates/courses (e.g. first aid certifications, food safety) required to meet specific job or industry requirements.
A29: Indigenous Language or Cultural Training | B29: Training in Indigenous language or culture acquisition and renewal that restores and revitalizes Indigenous language, culture, community, and traditional economies.
A30: Micro-credential | B30: Recognized short-duration, competency-based learning opportunities, that align with labour market or community needs and can be assessed and recognized for employment or further learning opportunities.
A31: Other pre-apprenticeship training | B31: Other skills development activities and costs not identified in these categories but have been identified as a priority and needed in the Indigenous community e.g. non-professional drivers training for individuals required to drive as a pre-requisite to employment and/or those wanting to enter the labour market, entrepreneurship training, the costs of books, training software, examination sitting fees, and other course-related materials.
A33: Indigenous Cultural Components: Incorporation of unique Indigenous protocols/activities in the curriculum and programming to support a participant’s success.
A34: Indigenous cultural components | B34: Cultural components included in the program to support participants’ success. Includes culturally appropriate participant assessments and completion/recognition events, as well as Elder support and training.
A36: Employment Assistance Services: A variety of services that support participants as they prepare to enter or re-enter the workforce or assist them to find a better job. Examples include job search services, career counselling, and résumé writing assistance. Friendship Centres and Applicants should use the local ISET or WorkBC Centre for these types of services. However, where availability is an issue, consideration may be given to alternatives.
A37: Click here to access the local ISET.
A38: Pre-employment assessment, counselling, coaching | B38: Assessments include: ▪intake assessments to determine participant eligibility and suitability, employment readiness, potential barriers to employment, and education training and education needs; and ▪personality, vocational and essential skills assessments. Employment or career counselling/coaching to help the participant to achieve their employment or career goals include: ▪supporting participants with their training and education plan; ▪assisting in the exploration of specific opportunities in participant’s Friendship Centre; ▪mentoring and coaching; and ▪mental health, drug, and/or alcohol counselling.
A39: Job Search Assistance | B39: Job readiness skills such as job search, resume writing, and interview skills. These services are usually provided by employment service providers to prepare participants for entering the workforce.
A41: Participant Financial Supports: financial supports and benefits for the participant to remove barriers to their participation in the project.
A42: Training Allowance | B42: An allowance for expenses necessary for a person to pursue academic studies, skills training, or life skills development.
A43: Financial Supports | B43: Supports provided to the participant can include but are not limited to: ▪Childcare supports to care for a participant’s child(ren) while they are attending training. ▪Transportation: supports to enable the participant to travel to and from training, services, job interviews or employment, including bus passes and/or mileage. ▪Refreshments such as food or light meals provided during training or other services. ▪Disability supports provided to persons with disabilities to assist them in participating in training and other services, and in obtaining and maintaining employment. These can include financial supports deemed reasonable by BCAAFC and specialized equipment. ▪Accommodation where training is offered outside the participants’ community. ▪Required equipment or work gear (e.g. worksite clothing, boots, and tools etc.). ▪Laptops and computer equipment related to participants participating in the program.
A45: Work Experience: activities that provide the participant with opportunities to gain work experience and support them post-employment. Friendship Centres should use the local ISET or WorkBC Centre for these types of services. However, where availability is an issue, consideration may be given to alternatives.
A46: Click here to access the local ISET.
...

Sheet List
A1: Actual
A2: Forecast
A4: [Select FC Name from Dropdown List]
A5: Cariboo Friendship Society
A6: Conayt Friendship Society
A7: Dze L K'ant Friendship Centre Society
A8: Fort Nelson Aboriginal Friendship Society
A9: Fort St. John Friendship Society
A10: Fraser Region Aboriginal Friendship Centre Association
A11: Friendship House Association of Prince Rupert
A12: Hiiye’yu Lelum (House of Friendship) Society
A13: Kamloops Aboriginal Friendship Society
... A28: Wachiay Friendship Centre Society
